BEGIN:VCALENDAR
VERSION:2.0
PRODID:-//MoreDirt v1.0//EN
BEGIN:VEVENT
DTSTAMP:20150730T130000Z
ORGANIZER;CN=Lincoln Wheelers:MAILTO:
STATUS:CONFIRMED
UID:MORESPORTSNETWORK6234
DTSTART:20240901T080000Z
DTEND:20240901T120000Z
SUMMARY:Doddington XC Race
DESCRIPTION:Doddington XC Race - more details: https://www.moredirt.com/event/6234
X-ALT-DESC;FMTTYPE=text/html:Doddington XC Race - more details: https://www.moredirt.com/event/6234
LOCATION:
END:VEVENT
END:VCALENDAR