BEGIN:VCALENDAR
VERSION:2.0
PRODID:-//MoreDirt v1.0//EN
BEGIN:VEVENT
DTSTAMP:20150730T130000Z
ORGANIZER;CN=Viking Challenge:MAILTO:
STATUS:CONFIRMED
UID:MORESPORTSNETWORK6233
DTSTART:20241006T080000Z
DTEND:20241006T120000Z
SUMMARY:Viking Challenge 2024
DESCRIPTION:Viking Challenge 2024 - more details: https://www.moredirt.com/event/6233
X-ALT-DESC;FMTTYPE=text/html:Viking Challenge 2024 - more details: https://www.moredirt.com/event/6233
LOCATION:
END:VEVENT
END:VCALENDAR