BEGIN:VCALENDAR
VERSION:2.0
PRODID:-//MoreDirt v1.0//EN
BEGIN:VEVENT
DTSTAMP:20150730T130000Z
ORGANIZER;CN=Lakelander Gravel Grinder:MAILTO:
STATUS:CONFIRMED
UID:MORESPORTSNETWORK6231
DTSTART:20241005T080000Z
DTEND:20241005T120000Z
SUMMARY:Lakelander Gravel Grinder 2024
DESCRIPTION:Lakelander Gravel Grinder 2024 - more details: https://www.moredirt.com/event/6231
X-ALT-DESC;FMTTYPE=text/html:Lakelander Gravel Grinder 2024 - more details: https://www.moredirt.com/event/6231
LOCATION:
END:VEVENT
END:VCALENDAR