BEGIN:VCALENDAR
VERSION:2.0
PRODID:-//MoreDirt v1.0//EN
BEGIN:VEVENT
DTSTAMP:20150730T130000Z
ORGANIZER;CN=Outcast Racing:MAILTO:
STATUS:CONFIRMED
UID:MORESPORTSNETWORK6225
DTSTART:20240915T080000Z
DTEND:20240915T120000Z
SUMMARY:Battle at the Bike Park
DESCRIPTION:Battle at the Bike Park - more details: https://www.moredirt.com/event/6225
X-ALT-DESC;FMTTYPE=text/html:Battle at the Bike Park - more details: https://www.moredirt.com/event/6225
LOCATION:
END:VEVENT
END:VCALENDAR