BEGIN:VCALENDAR
VERSION:2.0
PRODID:-//MoreDirt v1.0//EN
BEGIN:VEVENT
DTSTAMP:20150730T130000Z
ORGANIZER;CN=Atherton Bikes:MAILTO:
STATUS:CONFIRMED
UID:MORESPORTSNETWORK6209
DTSTART:20240622T080000Z
DTEND:20240622T120000Z
SUMMARY:Atherton Bikes Demo - Windhill Bike Park
DESCRIPTION:Atherton Bikes Demo - Windhill Bike Park - more details: https://www.moredirt.com/event/6209
X-ALT-DESC;FMTTYPE=text/html:Atherton Bikes Demo - Windhill Bike Park - more details: https://www.moredirt.com/event/6209
LOCATION:
END:VEVENT
END:VCALENDAR