BEGIN:VCALENDAR
VERSION:2.0
PRODID:-//MoreDirt v1.0//EN
BEGIN:VEVENT
DTSTAMP:20150730T130000Z
ORGANIZER;CN=Howler Bike Park:MAILTO:
STATUS:CONFIRMED
UID:MORESPORTSNETWORK6204
DTSTART:20240629T080000Z
DTEND:20240629T120000Z
SUMMARY:Saturday Endurance DH Series #1
DESCRIPTION:Saturday Endurance DH Series #1 - more details: https://www.moredirt.com/event/6204
X-ALT-DESC;FMTTYPE=text/html:Saturday Endurance DH Series #1 - more details: https://www.moredirt.com/event/6204
LOCATION:
END:VEVENT
END:VCALENDAR