BEGIN:VCALENDAR
VERSION:2.0
PRODID:-//MoreDirt v1.0//EN
BEGIN:VEVENT
DTSTAMP:20150730T130000Z
ORGANIZER;CN=GOWAAN:MAILTO:
STATUS:CONFIRMED
UID:MORESPORTSNETWORK6201
DTSTART:20240920T080000Z
DTEND:20240922T120000Z
SUMMARY:Gowaan Gals MTB Festival 2024
DESCRIPTION:Gowaan Gals MTB Festival 2024 - more details: https://www.moredirt.com/event/6201
X-ALT-DESC;FMTTYPE=text/html:Gowaan Gals MTB Festival 2024 - more details: https://www.moredirt.com/event/6201
LOCATION:
END:VEVENT
END:VCALENDAR