BEGIN:VCALENDAR
VERSION:2.0
PRODID:-//MoreDirt v1.0//EN
BEGIN:VEVENT
DTSTAMP:20150730T130000Z
ORGANIZER;CN=Carl Davison:MAILTO:
STATUS:CONFIRMED
UID:MORESPORTSNETWORK61
DTSTART:20110305T080000+0000
DTEND:20110306T120000+0000
SUMMARY:Kielder Gravity Enduro
DESCRIPTION:Kielder Gravity Enduro - more details: https://www.moredirt.com/event/61
X-ALT-DESC;FMTTYPE=text/html:Kielder Gravity Enduro - more details: https://www.moredirt.com/event/61
LOCATION:
END:VEVENT
END:VCALENDAR