BEGIN:VCALENDAR
VERSION:2.0
PRODID:-//MoreDirt v1.0//EN
BEGIN:VEVENT
DTSTAMP:20150730T130000Z
ORGANIZER;CN=Start Fitness:MAILTO:
STATUS:CONFIRMED
UID:MORESPORTSNETWORK6192
DTSTART:20240420T080000Z
DTEND:20240420T120000Z
SUMMARY:Start Fitness x Santa Cruz & Transition Bike Demo
DESCRIPTION:Start Fitness x Santa Cruz & Transition Bike Demo - more details: https://www.moredirt.com/event/6192
X-ALT-DESC;FMTTYPE=text/html:Start Fitness x Santa Cruz & Transition Bike Demo - more details: https://www.moredirt.com/event/6192
LOCATION:
END:VEVENT
END:VCALENDAR