BEGIN:VCALENDAR
VERSION:2.0
PRODID:-//MoreDirt v1.0//EN
BEGIN:VEVENT
DTSTAMP:20150730T130000Z
ORGANIZER;CN=Northampton Bike Park:MAILTO:
STATUS:CONFIRMED
UID:MORESPORTSNETWORK6184
DTSTART:20240428T080000Z
DTEND:20240428T120000Z
SUMMARY:Adult Bike Park Skills Course 16yrs+ IA18
DESCRIPTION:Adult Bike Park Skills Course 16yrs+ IA18 - more details: https://www.moredirt.com/event/6184
X-ALT-DESC;FMTTYPE=text/html:Adult Bike Park Skills Course 16yrs+ IA18 - more details: https://www.moredirt.com/event/6184
LOCATION:
END:VEVENT
END:VCALENDAR