BEGIN:VCALENDAR
VERSION:2.0
PRODID:-//MoreDirt v1.0//EN
BEGIN:VEVENT
DTSTAMP:20150730T130000Z
ORGANIZER;CN=Northampton Bike Park:MAILTO:
STATUS:CONFIRMED
UID:MORESPORTSNETWORK6183
DTSTART:20240428T080000Z
DTEND:20240428T120000Z
SUMMARY:Young Rider Bike Park Skills Course 11-16yrs IA17
DESCRIPTION:Young Rider Bike Park Skills Course 11-16yrs IA17 - more details: https://www.moredirt.com/event/6183
X-ALT-DESC;FMTTYPE=text/html:Young Rider Bike Park Skills Course 11-16yrs IA17 - more details: https://www.moredirt.com/event/6183
LOCATION:
END:VEVENT
END:VCALENDAR