BEGIN:VCALENDAR
VERSION:2.0
PRODID:-//MoreDirt v1.0//EN
BEGIN:VEVENT
DTSTAMP:20150730T130000Z
ORGANIZER;CN=Gasser Diaries Official:MAILTO:
STATUS:CONFIRMED
UID:MORESPORTSNETWORK6178
DTSTART:20240830T080000Z
DTEND:20240831T120000Z
SUMMARY:Farmer Johns Gasser Jam
DESCRIPTION:Farmer Johns Gasser Jam - more details: https://www.moredirt.com/event/6178
X-ALT-DESC;FMTTYPE=text/html:Farmer Johns Gasser Jam - more details: https://www.moredirt.com/event/6178
LOCATION:
END:VEVENT
END:VCALENDAR