BEGIN:VCALENDAR
VERSION:2.0
PRODID:-//MoreDirt v1.0//EN
BEGIN:VEVENT
DTSTAMP:20150730T130000Z
ORGANIZER;CN=Spider Mountain:MAILTO:
STATUS:CONFIRMED
UID:MORESPORTSNETWORK6176
DTSTART:20241214T080000+0000
DTEND:20241214T120000+0000
SUMMARY:Hill Country Downhill - Fall Series #3
DESCRIPTION:Hill Country Downhill - Fall Series #3 - more details: https://www.moredirt.com/event/6176
X-ALT-DESC;FMTTYPE=text/html:Hill Country Downhill - Fall Series #3 - more details: https://www.moredirt.com/event/6176
LOCATION:
END:VEVENT
END:VCALENDAR