BEGIN:VCALENDAR
VERSION:2.0
PRODID:-//MoreDirt v1.0//EN
BEGIN:VEVENT
DTSTAMP:20150730T130000Z
ORGANIZER;CN=Bike Park Wales:MAILTO:
STATUS:CONFIRMED
UID:MORESPORTSNETWORK6175
DTSTART:20240322T080000+0000
DTEND:20240322T120000+0000
SUMMARY:Bike Park Wales Pre Season Winter Shakedown 2.0
DESCRIPTION:Bike Park Wales Pre Season Winter Shakedown 2.0 - more details: https://www.moredirt.com/event/6175
X-ALT-DESC;FMTTYPE=text/html:Bike Park Wales Pre Season Winter Shakedown 2.0 - more details: https://www.moredirt.com/event/6175
LOCATION:
END:VEVENT
END:VCALENDAR