BEGIN:VCALENDAR
VERSION:2.0
PRODID:-//MoreDirt v1.0//EN
BEGIN:VEVENT
DTSTAMP:20150730T130000Z
ORGANIZER;CN=Connacht XC Mountain Bike League:MAILTO:
STATUS:CONFIRMED
UID:MORESPORTSNETWORK6173
DTSTART:20240310T080000+0000
DTEND:20240310T120000+0000
SUMMARY:Connacht MTB XC League Round 2 - Derroura Woods
DESCRIPTION:Connacht MTB XC League Round 2 - Derroura Woods - more details: https://www.moredirt.com/event/6173
X-ALT-DESC;FMTTYPE=text/html:Connacht MTB XC League Round 2 - Derroura Woods - more details: https://www.moredirt.com/event/6173
LOCATION:
END:VEVENT
END:VCALENDAR