BEGIN:VCALENDAR
VERSION:2.0
PRODID:-//MoreDirt v1.0//EN
BEGIN:VEVENT
DTSTAMP:20150730T130000Z
ORGANIZER;CN=Albany Mountain Bike Club:MAILTO:
STATUS:CONFIRMED
UID:MORESPORTSNETWORK6170
DTSTART:20240323T080000+0000
DTEND:20240324T120000+0000
SUMMARY:WA State Downhill Series 2024 Round 1- Albany
DESCRIPTION:WA State Downhill Series 2024 Round 1- Albany - more details: https://www.moredirt.com/event/6170
X-ALT-DESC;FMTTYPE=text/html:WA State Downhill Series 2024 Round 1- Albany - more details: https://www.moredirt.com/event/6170
LOCATION:
END:VEVENT
END:VCALENDAR