BEGIN:VCALENDAR
VERSION:2.0
PRODID:-//MoreDirt v1.0//EN
BEGIN:VEVENT
DTSTAMP:20150730T130000Z
ORGANIZER;CN=Scottish Cycing:MAILTO:
STATUS:CONFIRMED
UID:MORESPORTSNETWORK6161
DTSTART:20240504T080000Z
DTEND:20240504T120000Z
SUMMARY:Scottish Cycling Mini-DH Final 2024
DESCRIPTION:Scottish Cycling Mini-DH Final 2024 - more details: https://www.moredirt.com/event/6161
X-ALT-DESC;FMTTYPE=text/html:Scottish Cycling Mini-DH Final 2024 - more details: https://www.moredirt.com/event/6161
LOCATION:
END:VEVENT
END:VCALENDAR