BEGIN:VCALENDAR
VERSION:2.0
PRODID:-//MoreDirt v1.0//EN
BEGIN:VEVENT
DTSTAMP:20150730T130000Z
ORGANIZER;CN=Falkirk Junior Bike Club:MAILTO:
STATUS:CONFIRMED
UID:MORESPORTSNETWORK6159
DTSTART:20240414T080000Z
DTEND:20240414T120000Z
SUMMARY:FJBC Double Trouble MTB Pairs Race
DESCRIPTION:FJBC Double Trouble MTB Pairs Race - more details: https://www.moredirt.com/event/6159
X-ALT-DESC;FMTTYPE=text/html:FJBC Double Trouble MTB Pairs Race - more details: https://www.moredirt.com/event/6159
LOCATION:
END:VEVENT
END:VCALENDAR