BEGIN:VCALENDAR
VERSION:2.0
PRODID:-//MoreDirt v1.0//EN
BEGIN:VEVENT
DTSTAMP:20150730T130000Z
ORGANIZER;CN=Bolly Skyline:MAILTO:
STATUS:CONFIRMED
UID:MORESPORTSNETWORK6158
DTSTART:20240921T080000Z
DTEND:20240922T120000Z
SUMMARY:Bolly Skyline MTB Enduro 2024
DESCRIPTION:Bolly Skyline MTB Enduro 2024 - more details: https://www.moredirt.com/event/6158
X-ALT-DESC;FMTTYPE=text/html:Bolly Skyline MTB Enduro 2024 - more details: https://www.moredirt.com/event/6158
LOCATION:
END:VEVENT
END:VCALENDAR