BEGIN:VCALENDAR
VERSION:2.0
PRODID:-//MoreDirt v1.0//EN
BEGIN:VEVENT
DTSTAMP:20150730T130000Z
ORGANIZER;CN=Focus Rides:MAILTO:
STATUS:CONFIRMED
UID:MORESPORTSNETWORK6155
DTSTART:20240331T080000Z
DTEND:20240331T120000Z
SUMMARY:Focus Rides Mountain Bike XC Round 1 - North Willingham
DESCRIPTION:Focus Rides Mountain Bike XC Round 1 - North Willingham - more details: https://www.moredirt.com/event/6155
X-ALT-DESC;FMTTYPE=text/html:Focus Rides Mountain Bike XC Round 1 - North Willingham - more details: https://www.moredirt.com/event/6155
LOCATION:
END:VEVENT
END:VCALENDAR