BEGIN:VCALENDAR
VERSION:2.0
PRODID:-//MoreDirt v1.0//EN
BEGIN:VEVENT
DTSTAMP:20150730T130000Z
ORGANIZER;CN=Wheelbase Cycles:MAILTO:
STATUS:CONFIRMED
UID:MORESPORTSNETWORK6142
DTSTART:20240427T080000Z
DTEND:20240428T120000Z
SUMMARY:Wheelbase Big Demo Day 2024 - Lake District
DESCRIPTION:Wheelbase Big Demo Day 2024 - Lake District - more details: https://www.moredirt.com/event/6142
X-ALT-DESC;FMTTYPE=text/html:Wheelbase Big Demo Day 2024 - Lake District - more details: https://www.moredirt.com/event/6142
LOCATION:
END:VEVENT
END:VCALENDAR