BEGIN:VCALENDAR
VERSION:2.0
PRODID:-//MoreDirt v1.0//EN
BEGIN:VEVENT
DTSTAMP:20150730T130000Z
ORGANIZER;CN=Caersws Bike Park:MAILTO:
STATUS:CONFIRMED
UID:MORESPORTSNETWORK6140
DTSTART:20240420T080000Z
DTEND:20240420T120000Z
SUMMARY:Caersws Bike Park Uplift - Saturday 20th April
DESCRIPTION:Caersws Bike Park Uplift - Saturday 20th April - more details: https://www.moredirt.com/event/6140
X-ALT-DESC;FMTTYPE=text/html:Caersws Bike Park Uplift - Saturday 20th April - more details: https://www.moredirt.com/event/6140
LOCATION:
END:VEVENT
END:VCALENDAR