BEGIN:VCALENDAR
VERSION:2.0
PRODID:-//MoreDirt v1.0//EN
BEGIN:VEVENT
DTSTAMP:20150730T130000Z
ORGANIZER;CN=Caersws Bike Park:MAILTO:
STATUS:CONFIRMED
UID:MORESPORTSNETWORK6138
DTSTART:20240406T080000Z
DTEND:20240406T120000Z
SUMMARY:Caersws Bike Park Uplift - Saturday 6th April
DESCRIPTION:Caersws Bike Park Uplift - Saturday 6th April - more details: https://www.moredirt.com/event/6138
X-ALT-DESC;FMTTYPE=text/html:Caersws Bike Park Uplift - Saturday 6th April - more details: https://www.moredirt.com/event/6138
LOCATION:
END:VEVENT
END:VCALENDAR