BEGIN:VCALENDAR
VERSION:2.0
PRODID:-//MoreDirt v1.0//EN
BEGIN:VEVENT
DTSTAMP:20150730T130000Z
ORGANIZER;CN=Caersws Bike Park:MAILTO:
STATUS:CONFIRMED
UID:MORESPORTSNETWORK6137
DTSTART:20240330T080000+0000
DTEND:20240330T120000+0000
SUMMARY:Caersws Bike Park Uplift - Saturday 30th March
DESCRIPTION:Caersws Bike Park Uplift - Saturday 30th March - more details: https://www.moredirt.com/event/6137
X-ALT-DESC;FMTTYPE=text/html:Caersws Bike Park Uplift - Saturday 30th March - more details: https://www.moredirt.com/event/6137
LOCATION:
END:VEVENT
END:VCALENDAR