BEGIN:VCALENDAR
VERSION:2.0
PRODID:-//MoreDirt v1.0//EN
BEGIN:VEVENT
DTSTAMP:20150730T130000Z
ORGANIZER;CN=MTB Epics UK:MAILTO:
STATUS:CONFIRMED
UID:MORESPORTSNETWORK6121
DTSTART:20240906T080000Z
DTEND:20240906T120000Z
SUMMARY:Cotswolds 100/200
DESCRIPTION:Cotswolds 100/200 - more details: https://www.moredirt.com/event/6121
X-ALT-DESC;FMTTYPE=text/html:Cotswolds 100/200 - more details: https://www.moredirt.com/event/6121
LOCATION:
END:VEVENT
END:VCALENDAR