BEGIN:VCALENDAR
VERSION:2.0
PRODID:-//MoreDirt v1.0//EN
BEGIN:VEVENT
DTSTAMP:20150730T130000Z
ORGANIZER;CN=Cranked Cycle Club:MAILTO:
STATUS:CONFIRMED
UID:MORESPORTSNETWORK6107
DTSTART:20240406T080000Z
DTEND:20240406T120000Z
SUMMARY:Cranked CC - Mini-DH 2024 - Glentress
DESCRIPTION:Cranked CC - Mini-DH 2024 - Glentress - more details: https://www.moredirt.com/event/6107
X-ALT-DESC;FMTTYPE=text/html:Cranked CC - Mini-DH 2024 - Glentress - more details: https://www.moredirt.com/event/6107
LOCATION:
END:VEVENT
END:VCALENDAR