BEGIN:VCALENDAR
VERSION:2.0
PRODID:-//MoreDirt v1.0//EN
BEGIN:VEVENT
DTSTAMP:20150730T130000Z
ORGANIZER;CN=St Austell Wheelers CC:MAILTO:
STATUS:CONFIRMED
UID:MORESPORTSNETWORK6106
DTSTART:20240426T080000Z
DTEND:20240426T120000Z
SUMMARY:Secondary School MTB XC Event
DESCRIPTION:Secondary School MTB XC Event - more details: https://www.moredirt.com/event/6106
X-ALT-DESC;FMTTYPE=text/html:Secondary School MTB XC Event - more details: https://www.moredirt.com/event/6106
LOCATION:
END:VEVENT
END:VCALENDAR