BEGIN:VCALENDAR
VERSION:2.0
PRODID:-//MoreDirt v1.0//EN
BEGIN:VEVENT
DTSTAMP:20150730T130000Z
ORGANIZER;CN=West Virginia Enduro Series:MAILTO:
STATUS:CONFIRMED
UID:MORESPORTSNETWORK6103
DTSTART:20240519T080000Z
DTEND:20240519T120000Z
SUMMARY:West Virginia Enduro Series RD2 2024
DESCRIPTION:West Virginia Enduro Series RD2 2024 - more details: https://www.moredirt.com/event/6103
X-ALT-DESC;FMTTYPE=text/html:West Virginia Enduro Series RD2 2024 - more details: https://www.moredirt.com/event/6103
LOCATION:
END:VEVENT
END:VCALENDAR