BEGIN:VCALENDAR
VERSION:2.0
PRODID:-//MoreDirt v1.0//EN
BEGIN:VEVENT
DTSTAMP:20150730T130000Z
ORGANIZER;CN=Western Bike Events:MAILTO:
STATUS:CONFIRMED
UID:MORESPORTSNETWORK6102
DTSTART:20241019T080000Z
DTEND:20241019T120000Z
SUMMARY:Llanwono Gravel Epic
DESCRIPTION:Llanwono Gravel Epic - more details: https://www.moredirt.com/event/6102
X-ALT-DESC;FMTTYPE=text/html:Llanwono Gravel Epic - more details: https://www.moredirt.com/event/6102
LOCATION:
END:VEVENT
END:VCALENDAR