BEGIN:VCALENDAR
VERSION:2.0
PRODID:-//MoreDirt v1.0//EN
BEGIN:VEVENT
DTSTAMP:20150730T130000Z
ORGANIZER;CN=Western Bike Events:MAILTO:
STATUS:CONFIRMED
UID:MORESPORTSNETWORK6097
DTSTART:20240803T080000Z
DTEND:20240803T120000Z
SUMMARY:Llyn Brianne Gravel Epic
DESCRIPTION:Llyn Brianne Gravel Epic - more details: https://www.moredirt.com/event/6097
X-ALT-DESC;FMTTYPE=text/html:Llyn Brianne Gravel Epic - more details: https://www.moredirt.com/event/6097
LOCATION:
END:VEVENT
END:VCALENDAR