BEGIN:VCALENDAR
VERSION:2.0
PRODID:-//MoreDirt v1.0//EN
BEGIN:VEVENT
DTSTAMP:20150730T130000Z
ORGANIZER;CN=Glencullen Adventure Park (GAP):MAILTO:
STATUS:CONFIRMED
UID:MORESPORTSNETWORK6094
DTSTART:20240302T080000+0000
DTEND:20240302T120000+0000
SUMMARY:GAP DH League Round 1
DESCRIPTION:GAP DH League Round 1 - more details: https://www.moredirt.com/event/6094
X-ALT-DESC;FMTTYPE=text/html:GAP DH League Round 1 - more details: https://www.moredirt.com/event/6094
LOCATION:
END:VEVENT
END:VCALENDAR