BEGIN:VCALENDAR
VERSION:2.0
PRODID:-//MoreDirt v1.0//EN
BEGIN:VEVENT
DTSTAMP:20150730T130000Z
ORGANIZER;CN=Superenduro:MAILTO:
STATUS:CONFIRMED
UID:MORESPORTSNETWORK606
DTSTART:20130622T080000Z
DTEND:20130623T120000Z
SUMMARY:Superenduro - Pro4: Madesimo
DESCRIPTION:Superenduro - Pro4: Madesimo - more details: https://www.moredirt.com/event/606
X-ALT-DESC;FMTTYPE=text/html:Superenduro - Pro4: Madesimo - more details: https://www.moredirt.com/event/606
LOCATION:
END:VEVENT
END:VCALENDAR