BEGIN:VCALENDAR
VERSION:2.0
PRODID:-//MoreDirt v1.0//EN
BEGIN:VEVENT
DTSTAMP:20150730T130000Z
ORGANIZER;CN=Quench Cycles:MAILTO:
STATUS:CONFIRMED
UID:MORESPORTSNETWORK6064
DTSTART:20240203T080000+0000
DTEND:20240203T120000+0000
SUMMARY:Whyte Bikes Demo Event
DESCRIPTION:Whyte Bikes Demo Event - more details: https://www.moredirt.com/event/6064
X-ALT-DESC;FMTTYPE=text/html:Whyte Bikes Demo Event - more details: https://www.moredirt.com/event/6064
LOCATION:
END:VEVENT
END:VCALENDAR