BEGIN:VCALENDAR
VERSION:2.0
PRODID:-//MoreDirt v1.0//EN
BEGIN:VEVENT
DTSTAMP:20150730T130000Z
ORGANIZER;CN=Team Ballyhoura:MAILTO:
STATUS:CONFIRMED
UID:MORESPORTSNETWORK6056
DTSTART:20240324T080000+0000
DTEND:20240324T120000+0000
SUMMARY:2NDURO - Ballyhoura 2024
DESCRIPTION:2NDURO - Ballyhoura 2024 - more details: https://www.moredirt.com/event/6056
X-ALT-DESC;FMTTYPE=text/html:2NDURO - Ballyhoura 2024 - more details: https://www.moredirt.com/event/6056
LOCATION:
END:VEVENT
END:VCALENDAR