BEGIN:VCALENDAR
VERSION:2.0
PRODID:-//MoreDirt v1.0//EN
BEGIN:VEVENT
DTSTAMP:20150730T130000Z
ORGANIZER;CN=Pearce Cycles Events:MAILTO:
STATUS:CONFIRMED
UID:MORESPORTSNETWORK6051
DTSTART:20240127T080000+0000
DTEND:20240127T120000+0000
SUMMARY:Pearce Uplift Day - Bringewood
DESCRIPTION:Pearce Uplift Day - Bringewood - more details: https://www.moredirt.com/event/6051
X-ALT-DESC;FMTTYPE=text/html:Pearce Uplift Day - Bringewood - more details: https://www.moredirt.com/event/6051
LOCATION:
END:VEVENT
END:VCALENDAR