BEGIN:VCALENDAR
VERSION:2.0
PRODID:-//MoreDirt v1.0//EN
BEGIN:VEVENT
DTSTAMP:20150730T130000Z
ORGANIZER;CN=Pearce Cycles Events:MAILTO:
STATUS:CONFIRMED
UID:MORESPORTSNETWORK6049
DTSTART:20240831T080000Z
DTEND:20240901T120000Z
SUMMARY:Pearce Cycles Downhill Series 2024 - RD3
DESCRIPTION:Pearce Cycles Downhill Series 2024 - RD3 - more details: https://www.moredirt.com/event/6049
X-ALT-DESC;FMTTYPE=text/html:Pearce Cycles Downhill Series 2024 - RD3 - more details: https://www.moredirt.com/event/6049
LOCATION:
END:VEVENT
END:VCALENDAR