BEGIN:VCALENDAR
VERSION:2.0
PRODID:-//MoreDirt v1.0//EN
BEGIN:VEVENT
DTSTAMP:20150730T130000Z
ORGANIZER;CN=Unbound Fest:MAILTO:
STATUS:CONFIRMED
UID:MORESPORTSNETWORK6032
DTSTART:20240517T080000Z
DTEND:20240519T120000Z
SUMMARY:Unbound Fest 2024
DESCRIPTION:Unbound Fest 2024 - more details: https://www.moredirt.com/event/6032
X-ALT-DESC;FMTTYPE=text/html:Unbound Fest 2024 - more details: https://www.moredirt.com/event/6032
LOCATION:
END:VEVENT
END:VCALENDAR