BEGIN:VCALENDAR
VERSION:2.0
PRODID:-//MoreDirt v1.0//EN
BEGIN:VEVENT
DTSTAMP:20150730T130000Z
ORGANIZER;CN=Bikefest:MAILTO:
STATUS:CONFIRMED
UID:MORESPORTSNETWORK6023
DTSTART:20240906T080000Z
DTEND:20240908T120000Z
SUMMARY:The Ex MTB Enduro 2024
DESCRIPTION:The Ex MTB Enduro 2024 - more details: https://www.moredirt.com/event/6023
X-ALT-DESC;FMTTYPE=text/html:The Ex MTB Enduro 2024 - more details: https://www.moredirt.com/event/6023
LOCATION:
END:VEVENT
END:VCALENDAR