BEGIN:VCALENDAR
VERSION:2.0
PRODID:-//MoreDirt v1.0//EN
BEGIN:VEVENT
DTSTAMP:20150730T130000Z
ORGANIZER;CN=Okeford Hill Bike Park:MAILTO:
STATUS:CONFIRMED
UID:MORESPORTSNETWORK6014
DTSTART:20231230T080000+0000
DTEND:20231230T120000+0000
SUMMARY:Santa Jam - Okeford Hill Bike Park
DESCRIPTION:Santa Jam - Okeford Hill Bike Park - more details: https://www.moredirt.com/event/6014
X-ALT-DESC;FMTTYPE=text/html:Santa Jam - Okeford Hill Bike Park - more details: https://www.moredirt.com/event/6014
LOCATION:
END:VEVENT
END:VCALENDAR