BEGIN:VCALENDAR
VERSION:2.0
PRODID:-//MoreDirt v1.0//EN
BEGIN:VEVENT
DTSTAMP:20150730T130000Z
ORGANIZER;CN=Scottish Downhill Association (SDA) :MAILTO:
STATUS:CONFIRMED
UID:MORESPORTSNETWORK5987
DTSTART:20240629T080000Z
DTEND:20240630T120000Z
SUMMARY:SDA Series 2024 - RD3 Glenshee
DESCRIPTION:SDA Series 2024 - RD3 Glenshee - more details: https://www.moredirt.com/event/5987
X-ALT-DESC;FMTTYPE=text/html:SDA Series 2024 - RD3 Glenshee - more details: https://www.moredirt.com/event/5987
LOCATION:
END:VEVENT
END:VCALENDAR