BEGIN:VCALENDAR
VERSION:2.0
PRODID:-//MoreDirt v1.0//EN
BEGIN:VEVENT
DTSTAMP:20150730T130000Z
ORGANIZER;CN=Scottish Downhill Association (SDA) :MAILTO:
STATUS:CONFIRMED
UID:MORESPORTSNETWORK5986
DTSTART:20240525T080000Z
DTEND:20240526T120000Z
SUMMARY:SDA Series 2024 - RD2 Fort William
DESCRIPTION:SDA Series 2024 - RD2 Fort William - more details: https://www.moredirt.com/event/5986
X-ALT-DESC;FMTTYPE=text/html:SDA Series 2024 - RD2 Fort William - more details: https://www.moredirt.com/event/5986
LOCATION:
END:VEVENT
END:VCALENDAR