BEGIN:VCALENDAR
VERSION:2.0
PRODID:-//MoreDirt v1.0//EN
BEGIN:VEVENT
DTSTAMP:20150730T130000Z
ORGANIZER;CN=Gravity Enduro Ireland:MAILTO:
STATUS:CONFIRMED
UID:MORESPORTSNETWORK5937
DTSTART:20240824T080000Z
DTEND:20240825T120000Z
SUMMARY:Vitus Bikes Gravity Enduro Round 2 - Carrick
DESCRIPTION:Vitus Bikes Gravity Enduro Round 2 - Carrick - more details: https://www.moredirt.com/event/5937
X-ALT-DESC;FMTTYPE=text/html:Vitus Bikes Gravity Enduro Round 2 - Carrick - more details: https://www.moredirt.com/event/5937
LOCATION:
END:VEVENT
END:VCALENDAR