BEGIN:VCALENDAR
VERSION:2.0
PRODID:-//MoreDirt v1.0//EN
BEGIN:VEVENT
DTSTAMP:20150730T130000Z
ORGANIZER;CN=RADL GRVL:MAILTO:
STATUS:CONFIRMED
UID:MORESPORTSNETWORK5897
DTSTART:20240119T080000+0000
DTEND:20240119T120000+0000
SUMMARY:RADL GRVL
DESCRIPTION:RADL GRVL - more details: https://www.moredirt.com/event/5897
X-ALT-DESC;FMTTYPE=text/html:RADL GRVL - more details: https://www.moredirt.com/event/5897
LOCATION:
END:VEVENT
END:VCALENDAR