BEGIN:VCALENDAR
VERSION:2.0
PRODID:-//MoreDirt v1.0//EN
BEGIN:VEVENT
DTSTAMP:20150730T130000Z
ORGANIZER;CN=Mayer Active:MAILTO:
STATUS:CONFIRMED
UID:MORESPORTSNETWORK5862
DTSTART:20240519T080000Z
DTEND:20240519T120000Z
SUMMARY:Dirty Nocka 3/6hr XC Endurance Race
DESCRIPTION:Dirty Nocka 3/6hr XC Endurance Race - more details: https://www.moredirt.com/event/5862
X-ALT-DESC;FMTTYPE=text/html:Dirty Nocka 3/6hr XC Endurance Race - more details: https://www.moredirt.com/event/5862
LOCATION:
END:VEVENT
END:VCALENDAR