BEGIN:VCALENDAR
VERSION:2.0
PRODID:-//MoreDirt v1.0//EN
BEGIN:VEVENT
DTSTAMP:20150730T130000Z
ORGANIZER;CN=Northwoods Trails:MAILTO:
STATUS:CONFIRMED
UID:MORESPORTSNETWORK5854
DTSTART:20231110T080000+0000
DTEND:20231112T120000+0000
SUMMARY:Gudrun - Northwoods MTB Festival
DESCRIPTION:Gudrun - Northwoods MTB Festival - more details: https://www.moredirt.com/event/5854
X-ALT-DESC;FMTTYPE=text/html:Gudrun - Northwoods MTB Festival - more details: https://www.moredirt.com/event/5854
LOCATION:
END:VEVENT
END:VCALENDAR