BEGIN:VCALENDAR
VERSION:2.0
PRODID:-//MoreDirt v1.0//EN
BEGIN:VEVENT
DTSTAMP:20150730T130000Z
ORGANIZER;CN=Spider Mountain:MAILTO:
STATUS:CONFIRMED
UID:MORESPORTSNETWORK5847
DTSTART:20241012T080000Z
DTEND:20241012T120000Z
SUMMARY:Hill Country Downhill - Fall Series #1
DESCRIPTION:Hill Country Downhill - Fall Series #1 - more details: https://www.moredirt.com/event/5847
X-ALT-DESC;FMTTYPE=text/html:Hill Country Downhill - Fall Series #1 - more details: https://www.moredirt.com/event/5847
LOCATION:
END:VEVENT
END:VCALENDAR