BEGIN:VCALENDAR
VERSION:2.0
PRODID:-//MoreDirt v1.0//EN
BEGIN:VEVENT
DTSTAMP:20150730T130000Z
ORGANIZER;CN=Pearce Cycles Events:MAILTO:
STATUS:CONFIRMED
UID:MORESPORTSNETWORK5818
DTSTART:20231229T080000+0000
DTEND:20231229T120000+0000
SUMMARY:Pearce Xmas Charity Uplift - Hopton
DESCRIPTION:Pearce Xmas Charity Uplift - Hopton - more details: https://www.moredirt.com/event/5818
X-ALT-DESC;FMTTYPE=text/html:Pearce Xmas Charity Uplift - Hopton - more details: https://www.moredirt.com/event/5818
LOCATION:
END:VEVENT
END:VCALENDAR