BEGIN:VCALENDAR
VERSION:2.0
PRODID:-//MoreDirt v1.0//EN
BEGIN:VEVENT
DTSTAMP:20150730T130000Z
ORGANIZER;CN=Pearce Cycles Events:MAILTO:
STATUS:CONFIRMED
UID:MORESPORTSNETWORK5816
DTSTART:20231118T080000+0000
DTEND:20231118T120000+0000
SUMMARY:Pearce Uplift Day - Bucknell
DESCRIPTION:Pearce Uplift Day - Bucknell - more details: https://www.moredirt.com/event/5816
X-ALT-DESC;FMTTYPE=text/html:Pearce Uplift Day - Bucknell - more details: https://www.moredirt.com/event/5816
LOCATION:
END:VEVENT
END:VCALENDAR