BEGIN:VCALENDAR
VERSION:2.0
PRODID:-//MoreDirt v1.0//EN
BEGIN:VEVENT
DTSTAMP:20150730T130000Z
ORGANIZER;CN=Christopher Denman:MAILTO:
STATUS:CONFIRMED
UID:MORESPORTSNETWORK5809
DTSTART:20231230T080000+0000
DTEND:20231230T120000+0000
SUMMARY:Bucks Gravel Sportive
DESCRIPTION:Bucks Gravel Sportive - more details: https://www.moredirt.com/event/5809
X-ALT-DESC;FMTTYPE=text/html:Bucks Gravel Sportive - more details: https://www.moredirt.com/event/5809
LOCATION:
END:VEVENT
END:VCALENDAR