BEGIN:VCALENDAR
VERSION:2.0
PRODID:-//MoreDirt v1.0//EN
BEGIN:VEVENT
DTSTAMP:20150730T130000Z
ORGANIZER;CN=Snowshoe Epic Enduro 2023:MAILTO:
STATUS:CONFIRMED
UID:MORESPORTSNETWORK5805
DTSTART:20231014T080000Z
DTEND:20231015T120000Z
SUMMARY:West Virginia Enduro Series - Snowshoe Epic Enduro 2023
DESCRIPTION:West Virginia Enduro Series - Snowshoe Epic Enduro 2023 - more details: https://www.moredirt.com/event/5805
X-ALT-DESC;FMTTYPE=text/html:West Virginia Enduro Series - Snowshoe Epic Enduro 2023 - more details: https://www.moredirt.com/event/5805
LOCATION:
END:VEVENT
END:VCALENDAR